BEGIN:VCALENDAR
VERSION:2.0
PRODID:-//Contratero//ES
CALSCALE:GREGORIAN
METHOD:PUBLISH
BEGIN:VEVENT
UID:CONTR 2021 10323@contratero.es
DTSTAMP:20260424T123000Z
DTSTART:20210820T235959
DTEND:20210821T005959
SUMMARY:Cierre: Suministro de 4 directores de fibra para moderniza
DESCRIPTION:Suministro de 4 directores de fibra para modernizar la SAN del Gobierno de las Islas Baleares\\n\\nOrganismo: Consejería de Fondos Europeos\, Universidad y Cultura\\n\\nVer en Contratero: https://contratero.es/contracts/CONTR 2021 10323
URL:https://contratero.es/contracts/CONTR 2021 10323
STATUS:CONFIRMED
BEGIN:VALARM
TRIGGER:-P1D
ACTION:DISPLAY
DESCRIPTION:Recordatorio: Suministro de 4 directores de 
END:VALARM
END:VEVENT
END:VCALENDAR